BEGIN:VCALENDAR
VERSION:2.0
PRODID:-//85.13.150.74//NONSGML kigkonsult.se iCalcreator 2.20//
CALSCALE:GREGORIAN
METHOD:PUBLISH
X-WR-TIMEZONE:UTC
BEGIN:VEVENT
UID:event21677@FFM ROCK REVISITED
DTSTAMP:20260419T152050Z
CATEGORIES:Konzert-Tour
DESCRIPTION:EMP PERSISTENCE TOUR 2015\nKategorie: Konzert-Tour\nICS-Link: h
 ttps://www.ffm-rock.de/index.php?option=com_jem&view=event&id=21677:emp-pe
 rsistence-tour-2015\n
DTSTART;VALUE=DATE:20150120
DTEND;VALUE=DATE:20150121
LOCATION:Schlachthof Wiesbaden\,Murnaustr. 1 \,65189 Wiesbaden
SUMMARY:EMP PERSISTENCE TOUR 2015
URL:https://www.ffm-rock.de/index.php?option=com_jem&view=event&id=21677:em
 p-persistence-tour-2015
END:VEVENT
END:VCALENDAR
