BEGIN:VCALENDAR
VERSION:2.0
PRODID:-//85.13.150.74//NONSGML kigkonsult.se iCalcreator 2.20//
CALSCALE:GREGORIAN
METHOD:PUBLISH
X-WR-TIMEZONE:UTC
BEGIN:VEVENT
UID:event21682@FFM ROCK REVISITED
DTSTAMP:20260422T134157Z
CATEGORIES:Konzert-Tour
DESCRIPTION:EMP PERSISTENCE TOUR 2015\nKategorie: Konzert-Tour\nICS-Link: h
 ttps://www.ffm-rock.de/index.php?option=com_jem&view=event&id=21682:emp-pe
 rsistence-tour-2015\n
DTSTART;VALUE=DATE:20150119
DTEND;VALUE=DATE:20150120
LOCATION:Tivoli De Helling\,Helling 7\,3523CB Utrecht
SUMMARY:EMP PERSISTENCE TOUR 2015
URL:https://www.ffm-rock.de/index.php?option=com_jem&view=event&id=21682:em
 p-persistence-tour-2015
END:VEVENT
END:VCALENDAR
