BEGIN:VCALENDAR
VERSION:2.0
PRODID:-//85.13.150.74//NONSGML kigkonsult.se iCalcreator 2.20//
CALSCALE:GREGORIAN
METHOD:PUBLISH
X-WR-TIMEZONE:UTC
BEGIN:VEVENT
UID:event22229@FFM ROCK REVISITED
DTSTAMP:20260424T193106Z
CATEGORIES:Konzert-Tour
DESCRIPTION:ARENA\nKategorie: Konzert-Tour\nICS-Link: https://www.ffm-rock.
 de/index.php?option=com_jem&view=event&id=22229:arena\n
DTSTART;VALUE=DATE:20150401
DTEND;VALUE=DATE:20150402
LOCATION:Colos-Saal\,Roßmarkt 19\,63739 Aschaffenburg
SUMMARY:ARENA
URL:https://www.ffm-rock.de/index.php?option=com_jem&view=event&id=22229:ar
 ena
END:VEVENT
END:VCALENDAR
