BEGIN:VCALENDAR
VERSION:2.0
PRODID:-//85.13.150.74//NONSGML kigkonsult.se iCalcreator 2.20//
CALSCALE:GREGORIAN
METHOD:PUBLISH
X-WR-TIMEZONE:UTC
BEGIN:VEVENT
UID:event22256@FFM ROCK REVISITED
DTSTAMP:20260421T020631Z
CATEGORIES:Konzert-Tour
DESCRIPTION:[SOON] + SAVIOUR\nKategorie: Konzert-Tour\nICS-Link: https://ww
 w.ffm-rock.de/index.php?option=com_jem&view=event&id=22256:soon-saviour\n
DTSTART;VALUE=DATE:20141128
DTEND;VALUE=DATE:20141129
LOCATION:Elfer Music Club\,Klappergasse 5-7\,60594  Frankfurt am Main
SUMMARY:[SOON] + SAVIOUR
URL:https://www.ffm-rock.de/index.php?option=com_jem&view=event&id=22256:so
 on-saviour
END:VEVENT
END:VCALENDAR
