BEGIN:VCALENDAR
VERSION:2.0
PRODID:-//85.13.150.74//NONSGML kigkonsult.se iCalcreator 2.20//
CALSCALE:GREGORIAN
METHOD:PUBLISH
X-WR-TIMEZONE:UTC
BEGIN:VEVENT
UID:event22544@FFM ROCK REVISITED
DTSTAMP:20260419T192826Z
CATEGORIES:Konzert-Tour
DESCRIPTION:MORGOTH + DESERTED FEAR\nKategorie: Konzert-Tour\nICS-Link: htt
 ps://www.ffm-rock.de/index.php?option=com_jem&view=event&id=22544:morgoth
 \n
DTSTART;VALUE=DATE:20150329
DTEND;VALUE=DATE:20150330
LOCATION:AJZ Bahndamm Wermelskirchen\,Wolfhagenerstr.11\,42929 Wermelskirch
 en
SUMMARY:MORGOTH + DESERTED FEAR
URL:https://www.ffm-rock.de/index.php?option=com_jem&view=event&id=22544:mo
 rgoth
END:VEVENT
END:VCALENDAR
