BEGIN:VCALENDAR
VERSION:2.0
PRODID:-//85.13.150.74//NONSGML kigkonsult.se iCalcreator 2.20//
CALSCALE:GREGORIAN
METHOD:PUBLISH
X-WR-TIMEZONE:UTC
BEGIN:VEVENT
UID:event22569@FFM ROCK REVISITED
DTSTAMP:20260423T112918Z
CATEGORIES:Konzert-Tour
DESCRIPTION:KYLE GASS BAND\nKategorie: Konzert-Tour\nICS-Link: https://www.
 ffm-rock.de/index.php?option=com_jem&view=event&id=22569:kyle-gass-band\n
DTSTART;VALUE=DATE:20150428
DTEND;VALUE=DATE:20150429
LOCATION:Turock\,Viehofer Platz 3\,45117 Essen
SUMMARY:KYLE GASS BAND
URL:https://www.ffm-rock.de/index.php?option=com_jem&view=event&id=22569:ky
 le-gass-band
END:VEVENT
END:VCALENDAR
