BEGIN:VCALENDAR
VERSION:2.0
PRODID:-//85.13.150.74//NONSGML kigkonsult.se iCalcreator 2.20//
CALSCALE:GREGORIAN
METHOD:PUBLISH
X-WR-TIMEZONE:UTC
BEGIN:VEVENT
UID:event22756@FFM ROCK REVISITED
DTSTAMP:20260419T235023Z
CATEGORIES:Konzert-Tour
DESCRIPTION:BLACK VEIL BRIDES + LIKE A STORM\nKategorie: Konzert-Tour\nICS-
 Link: https://www.ffm-rock.de/index.php?option=com_jem&view=event&id=22756
 :black-veil-brides-like-a-storm\n
DTSTART;VALUE=DATE:20150327
DTEND;VALUE=DATE:20150328
LOCATION:Markthalle\,Klosterwall 11\,20095 Hamburg
SUMMARY:BLACK VEIL BRIDES + LIKE A STORM
URL:https://www.ffm-rock.de/index.php?option=com_jem&view=event&id=22756:bl
 ack-veil-brides-like-a-storm
END:VEVENT
END:VCALENDAR
