BEGIN:VCALENDAR
VERSION:2.0
PRODID:-//85.13.150.74//NONSGML kigkonsult.se iCalcreator 2.20//
CALSCALE:GREGORIAN
METHOD:PUBLISH
X-WR-TIMEZONE:UTC
BEGIN:VEVENT
UID:event22917@FFM ROCK REVISITED
DTSTAMP:20260423T033820Z
CATEGORIES:Konzert-Tour
DESCRIPTION:SHELLY BONET & BAND\nKategorie: Konzert-Tour\nICS-Link: https:/
 /www.ffm-rock.de/index.php?option=com_jem&view=event&id=22917:shelly-bonet
 -band\n
DTSTART;VALUE=DATE:20150411
DTEND;VALUE=DATE:20150412
LOCATION:EULENSPIEGEL - Seidenroth - schließt zum 30.06.15!\,Hauptstraße 8\
 ,36396 Steinau-Seidenroth
SUMMARY:SHELLY BONET & BAND
URL:https://www.ffm-rock.de/index.php?option=com_jem&view=event&id=22917:sh
 elly-bonet-band
END:VEVENT
END:VCALENDAR
