BEGIN:VCALENDAR
VERSION:2.0
PRODID:-//85.13.150.74//NONSGML kigkonsult.se iCalcreator 2.20//
CALSCALE:GREGORIAN
METHOD:PUBLISH
X-WR-TIMEZONE:UTC
BEGIN:VEVENT
UID:event23830@FFM ROCK REVISITED
DTSTAMP:20260419T150748Z
CATEGORIES:Konzert-Tour
DESCRIPTION:AXEL RUDI PELL + MOB RULES\nKategorie: Konzert-Tour\nICS-Link: 
 https://www.ffm-rock.de/index.php?option=com_jem&view=event&id=23830:axel-
 rudi-pell\n
DTSTART;VALUE=DATE:20160413
DTEND;VALUE=DATE:20160414
LOCATION:Colos-Saal\,Roßmarkt 19\,63739 Aschaffenburg
SUMMARY:AXEL RUDI PELL + MOB RULES
URL:https://www.ffm-rock.de/index.php?option=com_jem&view=event&id=23830:ax
 el-rudi-pell
END:VEVENT
END:VCALENDAR
