BEGIN:VCALENDAR
VERSION:2.0
PRODID:-//85.13.150.74//NONSGML kigkonsult.se iCalcreator 2.20//
CALSCALE:GREGORIAN
METHOD:PUBLISH
X-WR-TIMEZONE:UTC
BEGIN:VEVENT
UID:event23944@FFM ROCK REVISITED
DTSTAMP:20260422T112653Z
CATEGORIES:Konzert-Tour
DESCRIPTION:STONED JESUS\nKategorie: Konzert-Tour\nICS-Link: https://www.ff
 m-rock.de/index.php?option=com_jem&view=event&id=23944:stoned-jesus\n
DTSTART;VALUE=DATE:20160316
DTEND;VALUE=DATE:20160317
LOCATION:Schlachthof Wiesbaden\,Murnaustr. 1 \,65189 Wiesbaden
SUMMARY:STONED JESUS
URL:https://www.ffm-rock.de/index.php?option=com_jem&view=event&id=23944:st
 oned-jesus
END:VEVENT
END:VCALENDAR
