BEGIN:VCALENDAR
VERSION:2.0
PRODID:-//85.13.150.74//NONSGML kigkonsult.se iCalcreator 2.20//
CALSCALE:GREGORIAN
METHOD:PUBLISH
X-WR-TIMEZONE:UTC
BEGIN:VEVENT
UID:event23965@FFM ROCK REVISITED
DTSTAMP:20260419T151954Z
CATEGORIES:Konzert-Tour
DESCRIPTION:WHITE BEAR + THE TEMPERANCE MOVEMENT\nKategorie: Konzert-Tour\n
 ICS-Link: https://www.ffm-rock.de/index.php?option=com_jem&view=event&id=2
 3965:white-bear-the-temperance-movement\n
DTSTART;VALUE=DATE:20160214
DTEND;VALUE=DATE:20160215
LOCATION:Luxor\,Luxemburger Straße 40\,50674 Köln
SUMMARY:WHITE BEAR + THE TEMPERANCE MOVEMENT
URL:https://www.ffm-rock.de/index.php?option=com_jem&view=event&id=23965:wh
 ite-bear-the-temperance-movement
END:VEVENT
END:VCALENDAR
