BEGIN:VCALENDAR
VERSION:2.0
PRODID:-//85.13.150.74//NONSGML kigkonsult.se iCalcreator 2.20//
CALSCALE:GREGORIAN
METHOD:PUBLISH
X-WR-TIMEZONE:UTC
BEGIN:VEVENT
UID:event24151@FFM ROCK REVISITED
DTSTAMP:20260422T185336Z
CATEGORIES:Konzert-Tour
DESCRIPTION:BONFIRE + REBELLIOUS SPIRIT\nKategorie: Konzert-Tour\nICS-Link:
  https://www.ffm-rock.de/index.php?option=com_jem&view=event&id=24151:bonf
 ire-rebellious-spirit\n
DTSTART;VALUE=DATE:20160521
DTEND;VALUE=DATE:20160522
LOCATION:Kubana Live Club\,Zeithstraße 100\,53721 Siegburg
SUMMARY:BONFIRE + REBELLIOUS SPIRIT
URL:https://www.ffm-rock.de/index.php?option=com_jem&view=event&id=24151:bo
 nfire-rebellious-spirit
END:VEVENT
END:VCALENDAR
