BEGIN:VCALENDAR
VERSION:2.0
PRODID:-//85.13.150.74//NONSGML kigkonsult.se iCalcreator 2.20//
CALSCALE:GREGORIAN
METHOD:PUBLISH
X-WR-TIMEZONE:UTC
BEGIN:VEVENT
UID:event24179@FFM ROCK REVISITED
DTSTAMP:20260419T150727Z
CATEGORIES:Konzert-Tour
DESCRIPTION:JADED HEART\nKategorie: Konzert-Tour\nICS-Link: https://www.ffm
 -rock.de/index.php?option=com_jem&view=event&id=24179:jaded-heart\n
DTSTART;VALUE=DATE:20160528
DTEND;VALUE=DATE:20160529
LOCATION:Rock Cafe Kiss\,Lotzenäcker 35\,72379 Hechingen
SUMMARY:JADED HEART
URL:https://www.ffm-rock.de/index.php?option=com_jem&view=event&id=24179:ja
 ded-heart
END:VEVENT
END:VCALENDAR
