BEGIN:VCALENDAR
VERSION:2.0
PRODID:-//85.13.150.74//NONSGML kigkonsult.se iCalcreator 2.20//
CALSCALE:GREGORIAN
METHOD:PUBLISH
X-WR-TIMEZONE:UTC
BEGIN:VEVENT
UID:event24264@FFM ROCK REVISITED
DTSTAMP:20260419T123904Z
CATEGORIES:Konzert-Tour
DESCRIPTION:BRIDGEAR\nKategorie: Konzert-Tour\nICS-Link: https://www.ffm-ro
 ck.de/index.php?option=com_jem&view=event&id=24264:bridgear\n
DTSTART;VALUE=DATE:20160520
DTEND;VALUE=DATE:20160521
LOCATION:Live-Music-Hall Weiher\,Hauptstraße 73\,60509 Mörlenbach-Weiher
SUMMARY:BRIDGEAR
URL:https://www.ffm-rock.de/index.php?option=com_jem&view=event&id=24264:br
 idgear
END:VEVENT
END:VCALENDAR
