BEGIN:VCALENDAR
VERSION:2.0
PRODID:-//85.13.150.74//NONSGML kigkonsult.se iCalcreator 2.20//
CALSCALE:GREGORIAN
METHOD:PUBLISH
X-WR-TIMEZONE:UTC
BEGIN:VEVENT
UID:event24280@FFM ROCK REVISITED
DTSTAMP:20260419T120201Z
CATEGORIES:Konzert-Tour
DESCRIPTION:DISTRICT 97 + DAVE KERZNER BAND\nKategorie: Konzert-Tour\nICS-L
 ink: https://www.ffm-rock.de/index.php?option=com_jem&view=event&id=24280:
 district-97-dave-kerzner-band\n
DTSTART;VALUE=DATE:20160331
DTEND;VALUE=DATE:20160401
LOCATION:Das Rind\,Mainstraße 11\,65428 Rüsselsheim
SUMMARY:DISTRICT 97 + DAVE KERZNER BAND
URL:https://www.ffm-rock.de/index.php?option=com_jem&view=event&id=24280:di
 strict-97-dave-kerzner-band
END:VEVENT
END:VCALENDAR
