BEGIN:VCALENDAR
VERSION:2.0
PRODID:-//85.13.150.74//NONSGML kigkonsult.se iCalcreator 2.20//
CALSCALE:GREGORIAN
METHOD:PUBLISH
X-WR-TIMEZONE:UTC
BEGIN:VEVENT
UID:event24317@FFM ROCK REVISITED
DTSTAMP:20260423T170020Z
CATEGORIES:Konzert-Tour
DESCRIPTION:STONEWALL NOISE ORCHESTRA\nKategorie: Konzert-Tour\nICS-Link: h
 ttps://www.ffm-rock.de/index.php?option=com_jem&view=event&id=24317:stonew
 all-noise-orchestra\n
DTSTART;VALUE=DATE:20160518
DTEND;VALUE=DATE:20160519
LOCATION:Das Bett\,Schmidtstr. 12\,60326 Fankfurt am Main
SUMMARY:STONEWALL NOISE ORCHESTRA
URL:https://www.ffm-rock.de/index.php?option=com_jem&view=event&id=24317:st
 onewall-noise-orchestra
END:VEVENT
END:VCALENDAR
