BEGIN:VCALENDAR
VERSION:2.0
PRODID:-//85.13.150.74//NONSGML kigkonsult.se iCalcreator 2.20//
CALSCALE:GREGORIAN
METHOD:PUBLISH
X-WR-TIMEZONE:UTC
BEGIN:VEVENT
UID:event24498@FFM ROCK REVISITED
DTSTAMP:20260419T195534Z
CATEGORIES:Konzert-Tour
DESCRIPTION:STATUS QUO\nKategorie: Konzert-Tour\nICS-Link: https://www.ffm-
 rock.de/index.php?option=com_jem&view=event&id=24498:status-quo\n
DTSTART;VALUE=DATE:20161129
DTEND;VALUE=DATE:20161130
LOCATION:Porsche Arena\,Mercedesstraße 69\,70372 Stuttgart
SUMMARY:STATUS QUO
URL:https://www.ffm-rock.de/index.php?option=com_jem&view=event&id=24498:st
 atus-quo
END:VEVENT
END:VCALENDAR
