BEGIN:VCALENDAR
VERSION:2.0
PRODID:-//85.13.150.74//NONSGML kigkonsult.se iCalcreator 2.20//
CALSCALE:GREGORIAN
METHOD:PUBLISH
X-WR-TIMEZONE:UTC
BEGIN:VEVENT
UID:event24673@FFM ROCK REVISITED
DTSTAMP:20260419T183904Z
CATEGORIES:Konzert-Tour
DESCRIPTION:THE DEAD DAISIES + THE ANSWER\nKategorie: Konzert-Tour\nICS-Lin
 k: https://www.ffm-rock.de/index.php?option=com_jem&view=event&id=24673:th
 e-dead-daisies-the-answer\n
DTSTART;VALUE=DATE:20161130
DTEND;VALUE=DATE:20161201
LOCATION:Backstage München\,Wilhelm-Hale-Straße 38\,80639 München
SUMMARY:THE DEAD DAISIES + THE ANSWER
URL:https://www.ffm-rock.de/index.php?option=com_jem&view=event&id=24673:th
 e-dead-daisies-the-answer
END:VEVENT
END:VCALENDAR
