BEGIN:VCALENDAR
VERSION:2.0
PRODID:-//85.13.150.74//NONSGML kigkonsult.se iCalcreator 2.20//
CALSCALE:GREGORIAN
METHOD:PUBLISH
X-WR-TIMEZONE:UTC
BEGIN:VEVENT
UID:event24917@FFM ROCK REVISITED
DTSTAMP:20260425T235216Z
CATEGORIES:Konzert-Tour
DESCRIPTION:PALACE\nKategorie: Konzert-Tour\nICS-Link: https://www.ffm-rock
 .de/index.php?option=com_jem&view=event&id=24917:palace\n
DTSTART;VALUE=DATE:20170317
DTEND;VALUE=DATE:20170318
LOCATION:7er Club\,Industriestraße 7\,68169 Mannheim
SUMMARY:PALACE
URL:https://www.ffm-rock.de/index.php?option=com_jem&view=event&id=24917:pa
 lace
END:VEVENT
END:VCALENDAR
