BEGIN:VCALENDAR
VERSION:2.0
PRODID:-//85.13.150.74//NONSGML kigkonsult.se iCalcreator 2.20//
CALSCALE:GREGORIAN
METHOD:PUBLISH
X-WR-TIMEZONE:UTC
BEGIN:VEVENT
UID:event24968@FFM ROCK REVISITED
DTSTAMP:20260419T192221Z
CATEGORIES:Konzert-Tour
DESCRIPTION:KAIPA DA CAPO\nKategorie: Konzert-Tour\nICS-Link: https://www.f
 fm-rock.de/index.php?option=com_jem&view=event&id=24968:kaipa-da-capo\n
DTSTART;VALUE=DATE:20170216
DTEND;VALUE=DATE:20170217
LOCATION:Das Rind\,Mainstraße 11\,65428 Rüsselsheim
SUMMARY:KAIPA DA CAPO
URL:https://www.ffm-rock.de/index.php?option=com_jem&view=event&id=24968:ka
 ipa-da-capo
END:VEVENT
END:VCALENDAR
