BEGIN:VCALENDAR
VERSION:2.0
PRODID:-//85.13.150.74//NONSGML kigkonsult.se iCalcreator 2.20//
CALSCALE:GREGORIAN
METHOD:PUBLISH
X-WR-TIMEZONE:UTC
BEGIN:VEVENT
UID:event25028@FFM ROCK REVISITED
DTSTAMP:20260422T144603Z
CATEGORIES:Konzert-Tour
DESCRIPTION:SAINTED SINNERS\nKategorie: Konzert-Tour\nICS-Link: https://www
 .ffm-rock.de/index.php?option=com_jem&view=event&id=25028:sainted-sinners
 \n
DTSTART;VALUE=DATE:20170226
DTEND;VALUE=DATE:20170227
LOCATION:Rockfabrik Ludwigsburg\,Grönerstraße 25\,71636 Ludwigsburg
SUMMARY:SAINTED SINNERS
URL:https://www.ffm-rock.de/index.php?option=com_jem&view=event&id=25028:sa
 inted-sinners
END:VEVENT
END:VCALENDAR
