BEGIN:VCALENDAR
VERSION:2.0
PRODID:-//85.13.150.74//NONSGML kigkonsult.se iCalcreator 2.20//
CALSCALE:GREGORIAN
METHOD:PUBLISH
X-WR-TIMEZONE:UTC
BEGIN:VEVENT
UID:event25068@FFM ROCK REVISITED
DTSTAMP:20260426T005147Z
CATEGORIES:Konzert-Tour
DESCRIPTION:THOMAS GODOJ\nKategorie: Konzert-Tour\nICS-Link: https://www.ff
 m-rock.de/index.php?option=com_jem&view=event&id=25068:thomas-godoj\n
DTSTART;VALUE=DATE:20170406
DTEND;VALUE=DATE:20170407
LOCATION:Musiktheater Rex - Kulturdenkmal Güterhalle\,Fabrikstraße 10\,6462
 5 Bensheim 
SUMMARY:THOMAS GODOJ
URL:https://www.ffm-rock.de/index.php?option=com_jem&view=event&id=25068:th
 omas-godoj
END:VEVENT
END:VCALENDAR
