BEGIN:VCALENDAR
VERSION:2.0
PRODID:-//85.13.150.74//NONSGML kigkonsult.se iCalcreator 2.20//
CALSCALE:GREGORIAN
METHOD:PUBLISH
X-WR-TIMEZONE:UTC
BEGIN:VEVENT
UID:event25114@FFM ROCK REVISITED
DTSTAMP:20260422T114113Z
CATEGORIES:Konzert-Tour
DESCRIPTION:SAMSARA BLUES EXPERIMENT\nKategorie: Konzert-Tour\nICS-Link: ht
 tps://www.ffm-rock.de/index.php?option=com_jem&view=event&id=25114:samsara
 -blues-experiment\n
DTSTART;VALUE=DATE:20170515
DTEND;VALUE=DATE:20170516
LOCATION:Schlachthof Wiesbaden\,Murnaustr. 1 \,65189 Wiesbaden
SUMMARY:SAMSARA BLUES EXPERIMENT
URL:https://www.ffm-rock.de/index.php?option=com_jem&view=event&id=25114:sa
 msara-blues-experiment
END:VEVENT
END:VCALENDAR
