BEGIN:VCALENDAR
VERSION:2.0
PRODID:-//85.13.150.74//NONSGML kigkonsult.se iCalcreator 2.20//
CALSCALE:GREGORIAN
METHOD:PUBLISH
X-WR-TIMEZONE:UTC
BEGIN:VEVENT
UID:event25496@FFM ROCK REVISITED
DTSTAMP:20260424T084644Z
CATEGORIES:Konzert-Tour
DESCRIPTION:RANDY HANSEN\nKategorie: Konzert-Tour\nICS-Link: https://www.ff
 m-rock.de/index.php?option=com_jem&view=event&id=25496:randy-hansen\n
DTSTART;VALUE=DATE:20180426
DTEND;VALUE=DATE:20180427
LOCATION:Musiktheater Rex - Kulturdenkmal Güterhalle\,Fabrikstraße 10\,6462
 5 Bensheim 
SUMMARY:RANDY HANSEN
URL:https://www.ffm-rock.de/index.php?option=com_jem&view=event&id=25496:ra
 ndy-hansen
END:VEVENT
END:VCALENDAR
