BEGIN:VCALENDAR
VERSION:2.0
PRODID:-//85.13.150.74//NONSGML kigkonsult.se iCalcreator 2.20//
CALSCALE:GREGORIAN
METHOD:PUBLISH
X-WR-TIMEZONE:UTC
BEGIN:VEVENT
UID:event25498@FFM ROCK REVISITED
DTSTAMP:20260422T151119Z
CATEGORIES:Konzert-Tour
DESCRIPTION:MANFRED MANN'S EARTHBAND - ausverkauft!\nKategorie: Konzert-Tou
 r\nICS-Link: https://www.ffm-rock.de/index.php?option=com_jem&view=event&i
 d=25498:manfred-mann-s-earthband-ausverkauft\n
DTSTART;VALUE=DATE:20180428
DTEND;VALUE=DATE:20180429
LOCATION:Musiktheater Rex - Kulturdenkmal Güterhalle\,Fabrikstraße 10\,6462
 5 Bensheim 
SUMMARY:MANFRED MANN'S EARTHBAND - ausverkauft!
URL:https://www.ffm-rock.de/index.php?option=com_jem&view=event&id=25498:ma
 nfred-mann-s-earthband-ausverkauft
END:VEVENT
END:VCALENDAR
