BEGIN:VCALENDAR
VERSION:2.0
PRODID:-//85.13.150.74//NONSGML kigkonsult.se iCalcreator 2.20//
CALSCALE:GREGORIAN
METHOD:PUBLISH
X-WR-TIMEZONE:UTC
BEGIN:VEVENT
UID:event25865@FFM ROCK REVISITED
DTSTAMP:20260419T225500Z
CATEGORIES:Konzert-Tour
DESCRIPTION:THE HAMBURG BLUES BAND\nKategorie: Konzert-Tour\nICS-Link: http
 s://www.ffm-rock.de/index.php?option=com_jem&view=event&id=25865:the-hambu
 rg-blues-band\n
DTSTART;VALUE=DATE:20190118
DTEND;VALUE=DATE:20190119
LOCATION:Musiktheater Rex - Kulturdenkmal Güterhalle\,Fabrikstraße 10\,6462
 5 Bensheim 
SUMMARY:THE HAMBURG BLUES BAND
URL:https://www.ffm-rock.de/index.php?option=com_jem&view=event&id=25865:th
 e-hamburg-blues-band
END:VEVENT
END:VCALENDAR
