BEGIN:VCALENDAR
VERSION:2.0
PRODID:-//85.13.150.74//NONSGML kigkonsult.se iCalcreator 2.20//
CALSCALE:GREGORIAN
METHOD:PUBLISH
X-WR-TIMEZONE:UTC
BEGIN:VEVENT
UID:event26335@FFM ROCK REVISITED
DTSTAMP:20260424T140348Z
CATEGORIES:Konzert-Tour
DESCRIPTION:MOLLY HATCHET \nKategorie: Konzert-Tour\nICS-Link: https://www.
 ffm-rock.de/index.php?option=com_jem&view=event&id=26335:molly-hatchet\n
DTSTART;VALUE=DATE:20191214
DTEND;VALUE=DATE:20191215
LOCATION:Musiktheater Rex - Kulturdenkmal Güterhalle\,Fabrikstraße 10\,6462
 5 Bensheim 
SUMMARY:MOLLY HATCHET 
URL:https://www.ffm-rock.de/index.php?option=com_jem&view=event&id=26335:mo
 lly-hatchet
END:VEVENT
END:VCALENDAR
