BEGIN:VCALENDAR
VERSION:2.0
PRODID:-//85.13.150.74//NONSGML kigkonsult.se iCalcreator 2.20//
CALSCALE:GREGORIAN
METHOD:PUBLISH
X-WR-TIMEZONE:UTC
BEGIN:VEVENT
UID:event26342@FFM ROCK REVISITED
DTSTAMP:20260419T184923Z
CATEGORIES:Konzert-Tour
DESCRIPTION:DIE TOTEN HOSEN\nKategorie: Konzert-Tour\nICS-Link: https://www
 .ffm-rock.de/index.php?option=com_jem&view=event&id=26342:die-toten-hosen
 \n
DTSTART;VALUE=DATE:20200616
DTEND;VALUE=DATE:20200617
LOCATION:Westfalenhalle\,Rheinlanddamm 200\,44139 Dortmund
SUMMARY:DIE TOTEN HOSEN
URL:https://www.ffm-rock.de/index.php?option=com_jem&view=event&id=26342:di
 e-toten-hosen
END:VEVENT
END:VCALENDAR
