BEGIN:VCALENDAR
VERSION:2.0
PRODID:-//85.13.150.74//NONSGML kigkonsult.se iCalcreator 2.20//
CALSCALE:GREGORIAN
METHOD:PUBLISH
X-WR-TIMEZONE:UTC
BEGIN:VEVENT
UID:event27631@FFM ROCK REVISITED
DTSTAMP:20260422T231703Z
CATEGORIES:FFM-ROCK präsentiert
DESCRIPTION:MOON SHOT\nKategorie: FFM-ROCK präsentiert\nICS-Link: https://w
 ww.ffm-rock.de/index.php?option=com_jem&view=event&id=27631:moon-shot\n
DTSTART;VALUE=DATE:20261113
DTEND;VALUE=DATE:20261114
LOCATION:Nachtleben\,Kurt-Schumacher-Straße 45\,60313 Frankfurt am Main
SUMMARY:MOON SHOT
URL:https://www.ffm-rock.de/index.php?option=com_jem&view=event&id=27631:mo
 on-shot
END:VEVENT
END:VCALENDAR
