BEGIN:VCALENDAR
VERSION:2.0
PRODID:-//85.13.150.74//NONSGML kigkonsult.se iCalcreator 2.20//
CALSCALE:GREGORIAN
METHOD:PUBLISH
X-WR-TIMEZONE:UTC
BEGIN:VEVENT
UID:event18552@FFM ROCK REVISITED
DTSTAMP:20260423T165303Z
CATEGORIES:Benefizevent
DESCRIPTION:COMEDY MEETS METAL mit DORO\nKategorie: Benefizevent\nICS-Link:
  https://www.ffm-rock.de/index.php?option=com_jem&view=event&id=18552:come
 dy-meets-metal-mit-doro\n
DTSTART;VALUE=DATE:20130622
DTEND;VALUE=DATE:20130623
LOCATION:Naturtheater Steinbach-Langenbach\,Straße zum Naturtheater 5\,9866
 7   Steinbach
SUMMARY:COMEDY MEETS METAL mit DORO
URL:https://www.ffm-rock.de/index.php?option=com_jem&view=event&id=18552:co
 medy-meets-metal-mit-doro
END:VEVENT
END:VCALENDAR
