BEGIN:VCALENDAR
VERSION:2.0
PRODID:-//85.13.150.74//NONSGML kigkonsult.se iCalcreator 2.20//
CALSCALE:GREGORIAN
METHOD:PUBLISH
X-WR-TIMEZONE:UTC
BEGIN:VEVENT
UID:event19010@FFM ROCK REVISITED
DTSTAMP:20260419T151625Z
CATEGORIES:Festival
DESCRIPTION:PYRASER CLASSIC ROCK NIGHT mit DORO\, KROKUS\, KISSIN DYNAMITE
 \nKategorie: Festival\nICS-Link: https://www.ffm-rock.de/index.php?option=
 com_jem&view=event&id=19010:pyraser-classic-rock-night-mit-doro-krokus-kis
 sin-dynamite\n
DTSTART;VALUE=DATE:20130720
DTEND;VALUE=DATE:20130721
LOCATION:Brauereigutshof Pyras\,Pyras 26\,91177  Thalmässing 
SUMMARY:PYRASER CLASSIC ROCK NIGHT mit DORO\, KROKUS\, KISSIN DYNAMITE
URL:https://www.ffm-rock.de/index.php?option=com_jem&view=event&id=19010:py
 raser-classic-rock-night-mit-doro-krokus-kissin-dynamite
END:VEVENT
END:VCALENDAR
