BEGIN:VCALENDAR
VERSION:2.0
PRODID:-//85.13.150.74//NONSGML kigkonsult.se iCalcreator 2.20//
CALSCALE:GREGORIAN
METHOD:PUBLISH
X-WR-TIMEZONE:UTC
BEGIN:VEVENT
UID:event19189@FFM ROCK REVISITED
DTSTAMP:20260419T195906Z
CATEGORIES:Konzert-Tour
DESCRIPTION:PRONG\nKategorie: Konzert-Tour\nICS-Link: https://www.ffm-rock.
 de/index.php?option=com_jem&view=event&id=19189:prong\n
DTSTART;VALUE=DATE:20130625
DTEND;VALUE=DATE:20130626
LOCATION:Schüür Konzerthaus\,Tribschenstrasse 1\,6005 Luzern
SUMMARY:PRONG
URL:https://www.ffm-rock.de/index.php?option=com_jem&view=event&id=19189:pr
 ong
END:VEVENT
END:VCALENDAR
