BEGIN:VCALENDAR
VERSION:2.0
PRODID:-//85.13.150.74//NONSGML kigkonsult.se iCalcreator 2.20//
CALSCALE:GREGORIAN
METHOD:PUBLISH
X-WR-TIMEZONE:UTC
BEGIN:VEVENT
UID:event19291@FFM ROCK REVISITED
DTSTAMP:20260422T144935Z
CATEGORIES:Progressive
DESCRIPTION:LE ORME\nKategorie: Progressive\nICS-Link: https://www.ffm-rock
 .de/index.php?option=com_jem&view=event&id=19291:le-orme\n
DTSTART;VALUE=DATE:20130411
DTEND;VALUE=DATE:20130412
LOCATION:Das Rind\,Mainstraße 11\,65428 Rüsselsheim
SUMMARY:LE ORME
URL:https://www.ffm-rock.de/index.php?option=com_jem&view=event&id=19291:le
 -orme
END:VEVENT
END:VCALENDAR
