BEGIN:VCALENDAR
VERSION:2.0
PRODID:-//85.13.150.74//NONSGML kigkonsult.se iCalcreator 2.20//
CALSCALE:GREGORIAN
METHOD:PUBLISH
X-WR-TIMEZONE:UTC
BEGIN:VEVENT
UID:event19349@FFM ROCK REVISITED
DTSTAMP:20260425T011659Z
CATEGORIES:Konzert-Tour
DESCRIPTION:MATZE KNOP\nKategorie: Konzert-Tour\nICS-Link: https://www.ffm-
 rock.de/index.php?option=com_jem&view=event&id=19349:matze-knop\n
DTSTART;VALUE=DATE:20131031
DTEND;VALUE=DATE:20131101
LOCATION:ALTE Batschkapp\,Maybachstraße 24\,60433 Frankfurt am Main
SUMMARY:MATZE KNOP
URL:https://www.ffm-rock.de/index.php?option=com_jem&view=event&id=19349:ma
 tze-knop
END:VEVENT
END:VCALENDAR
