BEGIN:VCALENDAR
VERSION:2.0
PRODID:-//85.13.150.74//NONSGML kigkonsult.se iCalcreator 2.20//
CALSCALE:GREGORIAN
METHOD:PUBLISH
X-WR-TIMEZONE:UTC
BEGIN:VEVENT
UID:event19397@FFM ROCK REVISITED
DTSTAMP:20260419T183745Z
CATEGORIES:Benefizevent
DESCRIPTION:SCHANDMAUL\nKategorie: Benefizevent\nICS-Link: https://www.ffm-
 rock.de/index.php?option=com_jem&view=event&id=19397:schandmaul\n
DTSTART;VALUE=DATE:20130828
DTEND;VALUE=DATE:20130829
LOCATION:Live Music Hall\,Lichtstraße 30\,50825 Köln
SUMMARY:SCHANDMAUL
URL:https://www.ffm-rock.de/index.php?option=com_jem&view=event&id=19397:sc
 handmaul
END:VEVENT
END:VCALENDAR
