BEGIN:VCALENDAR
VERSION:2.0
PRODID:-//85.13.150.74//NONSGML kigkonsult.se iCalcreator 2.20//
CALSCALE:GREGORIAN
METHOD:PUBLISH
X-WR-TIMEZONE:UTC
BEGIN:VEVENT
UID:event19577@FFM ROCK REVISITED
DTSTAMP:20260419T192225Z
CATEGORIES:Konzert-Tour
DESCRIPTION:HÄMATOM\nKategorie: Konzert-Tour\nICS-Link: https://www.ffm-roc
 k.de/index.php?option=com_jem&view=event&id=19577:haematom\n
DTSTART;VALUE=DATE:20131123
DTEND;VALUE=DATE:20131124
LOCATION:Dynamo Werk 21\,Wasserwerkstrasse 21\,8006 Zürich
SUMMARY:HÄMATOM
URL:https://www.ffm-rock.de/index.php?option=com_jem&view=event&id=19577:ha
 ematom
END:VEVENT
END:VCALENDAR
