BEGIN:VCALENDAR
VERSION:2.0
PRODID:-//85.13.150.74//NONSGML kigkonsult.se iCalcreator 2.20//
CALSCALE:GREGORIAN
METHOD:PUBLISH
X-WR-TIMEZONE:UTC
BEGIN:VEVENT
UID:event19649@FFM ROCK REVISITED
DTSTAMP:20260424T235236Z
CATEGORIES:FFM-ROCK präsentiert
DESCRIPTION:A CHANCE FOR METAL FESTIVAL VII\nKategorie: FFM-ROCK präsentier
 t\nICS-Link: https://www.ffm-rock.de/index.php?option=com_jem&view=event&i
 d=19649:a-chance-for-metal-festival\n
DTSTART;VALUE=DATE:20131005
DTEND;VALUE=DATE:20131006
LOCATION:Sport- & Kulturhalle Riedstadt / Leeheim\,An der Sporthalle\,64560
  Riedstadt / Leeheim
SUMMARY:A CHANCE FOR METAL FESTIVAL VII
URL:https://www.ffm-rock.de/index.php?option=com_jem&view=event&id=19649:a-
 chance-for-metal-festival
END:VEVENT
END:VCALENDAR
