BEGIN:VCALENDAR
VERSION:2.0
PRODID:-//85.13.150.74//NONSGML kigkonsult.se iCalcreator 2.20//
CALSCALE:GREGORIAN
METHOD:PUBLISH
X-WR-TIMEZONE:UTC
BEGIN:VEVENT
UID:event19689@FFM ROCK REVISITED
DTSTAMP:20260423T090041Z
CATEGORIES:Konzert-Tour
DESCRIPTION:BONFIRE\nKategorie: Konzert-Tour\nICS-Link: https://www.ffm-roc
 k.de/index.php?option=com_jem&view=event&id=19689:bonfire\n
DTSTART;VALUE=DATE:20130712
DTEND;VALUE=DATE:20130713
LOCATION:Stadtfest Ingolstadt\,85049  Ingolstadt
SUMMARY:BONFIRE
URL:https://www.ffm-rock.de/index.php?option=com_jem&view=event&id=19689:bo
 nfire
END:VEVENT
END:VCALENDAR
