BEGIN:VCALENDAR
VERSION:2.0
PRODID:-//85.13.150.74//NONSGML kigkonsult.se iCalcreator 2.20//
CALSCALE:GREGORIAN
METHOD:PUBLISH
X-WR-TIMEZONE:UTC
BEGIN:VEVENT
UID:event19799@FFM ROCK REVISITED
DTSTAMP:20260424T180359Z
CATEGORIES:Konzert-Tour
DESCRIPTION:THE SCREWJETZ\nKategorie: Konzert-Tour\nICS-Link: https://www.f
 fm-rock.de/index.php?option=com_jem&view=event&id=19799:the-screwjetz\n
DTSTART;VALUE=DATE:20130622
DTEND;VALUE=DATE:20130623
LOCATION:JUZ Recklinghausen\,Marienstraße 2\,45663 Recklinghausen
SUMMARY:THE SCREWJETZ
URL:https://www.ffm-rock.de/index.php?option=com_jem&view=event&id=19799:th
 e-screwjetz
END:VEVENT
END:VCALENDAR
