BEGIN:VCALENDAR
VERSION:2.0
PRODID:-//85.13.150.74//NONSGML kigkonsult.se iCalcreator 2.20//
CALSCALE:GREGORIAN
METHOD:PUBLISH
X-WR-TIMEZONE:UTC
BEGIN:VEVENT
UID:event19814@FFM ROCK REVISITED
DTSTAMP:20260419T123906Z
CATEGORIES:Konzert-Tour
DESCRIPTION:FRAMES\nKategorie: Konzert-Tour\nICS-Link: https://www.ffm-rock
 .de/index.php?option=com_jem&view=event&id=19814:frames\n
DTSTART;VALUE=DATE:20130829
DTEND;VALUE=DATE:20130830
LOCATION:Schokoladen\,Ackerstraße 169 \,10115 Berlin
SUMMARY:FRAMES
URL:https://www.ffm-rock.de/index.php?option=com_jem&view=event&id=19814:fr
 ames
END:VEVENT
END:VCALENDAR
