BEGIN:VCALENDAR
VERSION:2.0
PRODID:-//85.13.150.74//NONSGML kigkonsult.se iCalcreator 2.20//
CALSCALE:GREGORIAN
METHOD:PUBLISH
X-WR-TIMEZONE:UTC
BEGIN:VEVENT
UID:event19830@FFM ROCK REVISITED
DTSTAMP:20260419T182701Z
CATEGORIES:Konzert-Tour
DESCRIPTION:B-52's\nKategorie: Konzert-Tour\nICS-Link: https://www.ffm-rock
 .de/index.php?option=com_jem&view=event&id=19830:b-52-s\n
DTSTART;VALUE=DATE:20130823
DTEND;VALUE=DATE:20130824
LOCATION:Clara-Zetkin-Parkbühne\,Käthe-Kollwitz-Straße\,04107 Leipzig
SUMMARY:B-52's
URL:https://www.ffm-rock.de/index.php?option=com_jem&view=event&id=19830:b-
 52-s
END:VEVENT
END:VCALENDAR
