BEGIN:VCALENDAR
VERSION:2.0
PRODID:-//85.13.150.74//NONSGML kigkonsult.se iCalcreator 2.20//
CALSCALE:GREGORIAN
METHOD:PUBLISH
X-WR-TIMEZONE:UTC
BEGIN:VEVENT
UID:event19855@FFM ROCK REVISITED
DTSTAMP:20260422T152504Z
CATEGORIES:Cover / Tribute
DESCRIPTION:SECOND SPRING @ Sommerfest\nKategorie: Cover / Tribute\nICS-Lin
 k: https://www.ffm-rock.de/index.php?option=com_jem&view=event&id=19855:se
 cond-spring-sommerfest\n
DTSTART:20130629T200000Z
DTEND:20130629T200000Z
LOCATION:Verein für Sport- und Gebrauchshunde \,Am Grünen See 9\,63165 Mühl
 heim am Main
SUMMARY:SECOND SPRING @ Sommerfest
URL:https://www.ffm-rock.de/index.php?option=com_jem&view=event&id=19855:se
 cond-spring-sommerfest
END:VEVENT
END:VCALENDAR
