BEGIN:VCALENDAR
VERSION:2.0
PRODID:-//85.13.150.74//NONSGML kigkonsult.se iCalcreator 2.20//
CALSCALE:GREGORIAN
METHOD:PUBLISH
X-WR-TIMEZONE:UTC
BEGIN:VEVENT
UID:event19907@FFM ROCK REVISITED
DTSTAMP:20260419T213900Z
CATEGORIES:Warm Up Party
DESCRIPTION:WACKEN WARM UP PARTY\nKategorie: Warm Up Party\nICS-Link: https
 ://www.ffm-rock.de/index.php?option=com_jem&view=event&id=19907:wacken-war
 m-up-party\n
DTSTART;VALUE=DATE:20130725
DTEND;VALUE=DATE:20130726
LOCATION:Bogen 2\,Trankgasse 20\,50667 Köln
SUMMARY:WACKEN WARM UP PARTY
URL:https://www.ffm-rock.de/index.php?option=com_jem&view=event&id=19907:wa
 cken-warm-up-party
END:VEVENT
END:VCALENDAR
