BEGIN:VCALENDAR
VERSION:2.0
PRODID:-//85.13.150.74//NONSGML kigkonsult.se iCalcreator 2.20//
CALSCALE:GREGORIAN
METHOD:PUBLISH
X-WR-TIMEZONE:UTC
BEGIN:VEVENT
UID:event19968@FFM ROCK REVISITED
DTSTAMP:20260419T192155Z
CATEGORIES:Unplugged
DESCRIPTION:CHÂLICE\nKategorie: Unplugged\nICS-Link: https://www.ffm-rock.d
 e/index.php?option=com_jem&view=event&id=19968:chalice\n
DTSTART;VALUE=DATE:20130905
DTEND;VALUE=DATE:20130906
LOCATION:Knight-Bar\,Pastorenwiesen\,21218  Seevetal
SUMMARY:CHÂLICE
URL:https://www.ffm-rock.de/index.php?option=com_jem&view=event&id=19968:ch
 alice
END:VEVENT
END:VCALENDAR
