BEGIN:VCALENDAR
VERSION:2.0
PRODID:-//85.13.150.74//NONSGML kigkonsult.se iCalcreator 2.20//
CALSCALE:GREGORIAN
METHOD:PUBLISH
X-WR-TIMEZONE:UTC
BEGIN:VEVENT
UID:event19999@FFM ROCK REVISITED
DTSTAMP:20260421T122324Z
CATEGORIES:DVD Release-Party
DESCRIPTION:KREATOR\nKategorie: DVD Release-Party\nICS-Link: https://www.ff
 m-rock.de/index.php?option=com_jem&view=event&id=19999:kreator\n
DTSTART;VALUE=DATE:20130829
DTEND;VALUE=DATE:20130830
LOCATION:Lichtburg Essen\,Kettwiger Straße 36\,45127 Essen
SUMMARY:KREATOR
URL:https://www.ffm-rock.de/index.php?option=com_jem&view=event&id=19999:kr
 eator
END:VEVENT
END:VCALENDAR
