BEGIN:VCALENDAR
VERSION:2.0
PRODID:-//85.13.150.74//NONSGML kigkonsult.se iCalcreator 2.20//
CALSCALE:GREGORIAN
METHOD:PUBLISH
X-WR-TIMEZONE:UTC
BEGIN:VEVENT
UID:event20177@FFM ROCK REVISITED
DTSTAMP:20260423T145545Z
CATEGORIES:Theater
DESCRIPTION:DER GOTT DES GEMETZELS\nKategorie: Theater\nICS-Link: https://w
 ww.ffm-rock.de/index.php?option=com_jem&view=event&id=20177:der-gott-des-g
 emetzels\n
DTSTART;VALUE=DATE:20131004
DTEND;VALUE=DATE:20131005
LOCATION:Ludwigstheater\,Ludwigstraße 7\,63739 Aschaffenburg
SUMMARY:DER GOTT DES GEMETZELS
URL:https://www.ffm-rock.de/index.php?option=com_jem&view=event&id=20177:de
 r-gott-des-gemetzels
END:VEVENT
END:VCALENDAR
