BEGIN:VCALENDAR
VERSION:2.0
PRODID:-//85.13.150.74//NONSGML kigkonsult.se iCalcreator 2.20//
CALSCALE:GREGORIAN
METHOD:PUBLISH
X-WR-TIMEZONE:UTC
BEGIN:VEVENT
UID:event20220@FFM ROCK REVISITED
DTSTAMP:20260424T090409Z
CATEGORIES:Cover / Tribute
DESCRIPTION:HELLS BELLES + W.E.S.P.\nKategorie: Cover / Tribute\nICS-Link: 
 https://www.ffm-rock.de/index.php?option=com_jem&view=event&id=20220:hells
 -belles-w-e-s-p\n
DTSTART;VALUE=DATE:20131031
DTEND;VALUE=DATE:20131101
LOCATION:Steinbruch-Theater\,Odenwaldstraße 26\,64367 Mühltal (Darmstadt)
SUMMARY:HELLS BELLES + W.E.S.P.
URL:https://www.ffm-rock.de/index.php?option=com_jem&view=event&id=20220:he
 lls-belles-w-e-s-p
END:VEVENT
END:VCALENDAR
