BEGIN:VCALENDAR
VERSION:2.0
PRODID:-//85.13.150.74//NONSGML kigkonsult.se iCalcreator 2.20//
CALSCALE:GREGORIAN
METHOD:PUBLISH
X-WR-TIMEZONE:UTC
BEGIN:VEVENT
UID:event20290@FFM ROCK REVISITED
DTSTAMP:20260423T045707Z
CATEGORIES:Cover / Tribute
DESCRIPTION:GORY MOORE\nKategorie: Cover / Tribute\nICS-Link: https://www.f
 fm-rock.de/index.php?option=com_jem&view=event&id=20290:gory-moore\n
DTSTART;VALUE=DATE:20131122
DTEND;VALUE=DATE:20131123
LOCATION:GMZ Gewerbeschule Wiesbaden\,Wellritzstraße 38 a\,65197 Wiesbaden
SUMMARY:GORY MOORE
URL:https://www.ffm-rock.de/index.php?option=com_jem&view=event&id=20290:go
 ry-moore
END:VEVENT
END:VCALENDAR
