BEGIN:VCALENDAR
VERSION:2.0
PRODID:-//85.13.150.74//NONSGML kigkonsult.se iCalcreator 2.20//
CALSCALE:GREGORIAN
METHOD:PUBLISH
X-WR-TIMEZONE:UTC
BEGIN:VEVENT
UID:event20384@FFM ROCK REVISITED
DTSTAMP:20260419T222607Z
CATEGORIES:Konzert-Tour
DESCRIPTION:MOTÖRHEAD + SAXON - abgesagt!\nKategorie: Konzert-Tour\nICS-Lin
 k: https://www.ffm-rock.de/index.php?option=com_jem&view=event&id=20384:mo
 toerhead-saxon-nachholtermin\n
DTSTART;VALUE=DATE:20140305
DTEND;VALUE=DATE:20140306
LOCATION:Schleyerhalle\,Mercedesstraße 68\,70327 Stuttgart
SUMMARY:MOTÖRHEAD + SAXON - abgesagt!
URL:https://www.ffm-rock.de/index.php?option=com_jem&view=event&id=20384:mo
 toerhead-saxon-nachholtermin
END:VEVENT
END:VCALENDAR
