BEGIN:VCALENDAR
VERSION:2.0
PRODID:-//85.13.150.74//NONSGML kigkonsult.se iCalcreator 2.20//
CALSCALE:GREGORIAN
METHOD:PUBLISH
X-WR-TIMEZONE:UTC
BEGIN:VEVENT
UID:event20442@FFM ROCK REVISITED
DTSTAMP:20260422T202243Z
CATEGORIES:Cover / Tribute
DESCRIPTION:BOSSTIME\nKategorie: Cover / Tribute\nICS-Link: https://www.ffm
 -rock.de/index.php?option=com_jem&view=event&id=20442:bosstime\n
DTSTART;VALUE=DATE:20131122
DTEND;VALUE=DATE:20131123
LOCATION:Alte Piesel\,Diorolfstraße 7\,36093 Künzell-Dirlos
SUMMARY:BOSSTIME
URL:https://www.ffm-rock.de/index.php?option=com_jem&view=event&id=20442:bo
 sstime
END:VEVENT
END:VCALENDAR
